BEGIN:VCALENDAR
VERSION:2.0
PRODID:-//KCB Vietnam - ECPv6.12.0.1//NONSGML v1.0//EN
CALSCALE:GREGORIAN
METHOD:PUBLISH
X-ORIGINAL-URL:https://kcb.atelierattention.com
X-WR-CALDESC:Events for KCB Vietnam
REFRESH-INTERVAL;VALUE=DURATION:PT1H
X-Robots-Tag:noindex
X-PUBLISHED-TTL:PT1H
BEGIN:VTIMEZONE
TZID:Asia/Bangkok
BEGIN:STANDARD
TZOFFSETFROM:+0700
TZOFFSETTO:+0700
TZNAME:+07
DTSTART:20250101T000000
END:STANDARD
END:VTIMEZONE
BEGIN:VEVENT
DTSTART;TZID=Asia/Bangkok:20250731T000000
DTEND;TZID=Asia/Bangkok:20250731T000000
DTSTAMP:20260422T211743
CREATED:20250519T174007Z
LAST-MODIFIED:20250519T175444Z
UID:1187-1753920000-1753920000@kcb.atelierattention.com
SUMMARY:Open Campus Tour & Scholarship Consultation
DESCRIPTION:1. Information\nTime: Saturday & Sunday\, 14&15 October\, 2023\n– Morning Session: 8:00 AM – 12:30 PM\n– Afternoon Session: 1:00 PM – 5:30 PM\nVenue: British University Vietnam\, Ecopark Township \n2. Agenda \nMorning Session:\n– 08:15 – 10:00: Check-in and welcome\n– 10:00 – 11:30: Ceremony (Theater Pod 3-1)\n– 11:30 – 12:30: Refreshments and photos \nAfternoon Session:\n– 13:00 – 15:00: Check-in and welcome\n– 15:00 – 16:30: Ceremony (Theater Pod 3-1)\n– 16:30 – 17:30: Refreshments and photos
URL:https://kcb.atelierattention.com/event/open-campus-tour-scholarship-consultation/
LOCATION:KCB Vietnam\, P. Trịnh Văn Bô\, Xuân Phương\, Nam Từ Liêm\, Hanoi\, Hanoi\, 10000\, Vietnam
ATTACH;FMTTYPE=image/jpeg:https://kcb.atelierattention.com/wp-content/uploads/2025/05/Event1.jpg
END:VEVENT
BEGIN:VEVENT
DTSTART;TZID=Asia/Bangkok:20250731T000000
DTEND;TZID=Asia/Bangkok:20250731T000000
DTSTAMP:20260422T211743
CREATED:20250519T174007Z
LAST-MODIFIED:20250519T181136Z
UID:1444-1753920000-1753920000@kcb.atelierattention.com
SUMMARY:Webinar: Exploring career trends in the digital era
DESCRIPTION:1. Information\nTime: Saturday & Sunday\, 14&15 October\, 2023\n– Morning Session: 8:00 AM – 12:30 PM\n– Afternoon Session: 1:00 PM – 5:30 PM\nVenue: British University Vietnam\, Ecopark Township \n2. Agenda \nMorning Session:\n– 08:15 – 10:00: Check-in and welcome\n– 10:00 – 11:30: Ceremony (Theater Pod 3-1)\n– 11:30 – 12:30: Refreshments and photos \nAfternoon Session:\n– 13:00 – 15:00: Check-in and welcome\n– 15:00 – 16:30: Ceremony (Theater Pod 3-1)\n– 16:30 – 17:30: Refreshments and photos
URL:https://kcb.atelierattention.com/event/open-campus-tour-scholarship-consultation-2/
LOCATION:KCB Vietnam\, P. Trịnh Văn Bô\, Xuân Phương\, Nam Từ Liêm\, Hanoi\, Hanoi\, 10000\, Vietnam
ATTACH;FMTTYPE=image/jpeg:https://kcb.atelierattention.com/wp-content/uploads/2025/05/Event1-1.jpg
END:VEVENT
BEGIN:VEVENT
DTSTART;TZID=Asia/Bangkok:20250731T000000
DTEND;TZID=Asia/Bangkok:20250731T000000
DTSTAMP:20260422T211743
CREATED:20250519T174007Z
LAST-MODIFIED:20250519T181230Z
UID:1453-1753920000-1753920000@kcb.atelierattention.com
SUMMARY:Leaders Talk – Employee Well-being: Key to sustainable workplace success
DESCRIPTION:1. Information\nTime: Saturday & Sunday\, 14&15 October\, 2023\n– Morning Session: 8:00 AM – 12:30 PM\n– Afternoon Session: 1:00 PM – 5:30 PM\nVenue: British University Vietnam\, Ecopark Township \n2. Agenda \nMorning Session:\n– 08:15 – 10:00: Check-in and welcome\n– 10:00 – 11:30: Ceremony (Theater Pod 3-1)\n– 11:30 – 12:30: Refreshments and photos \nAfternoon Session:\n– 13:00 – 15:00: Check-in and welcome\n– 15:00 – 16:30: Ceremony (Theater Pod 3-1)\n– 16:30 – 17:30: Refreshments and photos
URL:https://kcb.atelierattention.com/event/open-campus-tour-scholarship-consultation-3/
LOCATION:KCB Vietnam\, P. Trịnh Văn Bô\, Xuân Phương\, Nam Từ Liêm\, Hanoi\, Hanoi\, 10000\, Vietnam
ATTACH;FMTTYPE=image/jpeg:https://kcb.atelierattention.com/wp-content/uploads/2025/05/Event1-2.jpg
END:VEVENT
BEGIN:VEVENT
DTSTART;TZID=Asia/Bangkok:20250628T080000
DTEND;TZID=Asia/Bangkok:20250628T170000
DTSTAMP:20260422T211743
CREATED:20250518T101751Z
LAST-MODIFIED:20250519T174410Z
UID:1185-1751097600-1751130000@kcb.atelierattention.com
SUMMARY:Trial Class: Business & Leadership Essentials
DESCRIPTION:Summary:\nJoin our interactive business class led by our UK-certified lecturer and experience real classroom dynamics at KCB. \nEvent Details:\nCurious about what it’s like to study Business at KCB? This trial class is designed to let you sit in a real lecture and participate in interactive activities with our faculty and future peers. \nClass Highlights:\n\n\nIntroduction to leadership in global business environments \n\n\nHands-on group activities: Case solving & strategic planning \n\n\nQ&A session with the instructor and admissions advisor \n\n\nPerfect for high school graduates and university transfer students looking to pursue careers in management\, entrepreneurship\, or marketing. \n🎓 Participants receive a Certificate of Participation
URL:https://kcb.atelierattention.com/event/trial-class-business-leadership-essentials/
LOCATION:KCB Vietnam\, P. Trịnh Văn Bô\, Xuân Phương\, Nam Từ Liêm\, Hanoi\, Hanoi\, 10000\, Vietnam
ATTACH;FMTTYPE=image/jpeg:https://kcb.atelierattention.com/wp-content/uploads/2025/05/Event2.jpg
END:VEVENT
BEGIN:VEVENT
DTSTART;TZID=Asia/Bangkok:20250628T080000
DTEND;TZID=Asia/Bangkok:20250628T170000
DTSTAMP:20260422T211743
CREATED:20250518T101751Z
LAST-MODIFIED:20250519T181301Z
UID:1458-1751097600-1751130000@kcb.atelierattention.com
SUMMARY:Parents Talk #2: Personal Social Growth Programme
DESCRIPTION:Summary:\nJoin our interactive business class led by our UK-certified lecturer and experience real classroom dynamics at KCB. \nEvent Details:\nCurious about what it’s like to study Business at KCB? This trial class is designed to let you sit in a real lecture and participate in interactive activities with our faculty and future peers. \nClass Highlights:\n\n\nIntroduction to leadership in global business environments \n\n\nHands-on group activities: Case solving & strategic planning \n\n\nQ&A session with the instructor and admissions advisor \n\n\nPerfect for high school graduates and university transfer students looking to pursue careers in management\, entrepreneurship\, or marketing. \n🎓 Participants receive a Certificate of Participation
URL:https://kcb.atelierattention.com/event/trial-class-business-leadership-essentials-3/
LOCATION:KCB Vietnam\, P. Trịnh Văn Bô\, Xuân Phương\, Nam Từ Liêm\, Hanoi\, Hanoi\, 10000\, Vietnam
ATTACH;FMTTYPE=image/jpeg:https://kcb.atelierattention.com/wp-content/uploads/2025/05/Event2.jpg
END:VEVENT
BEGIN:VEVENT
DTSTART;TZID=Asia/Bangkok:20250628T080000
DTEND;TZID=Asia/Bangkok:20250628T170000
DTSTAMP:20260422T211743
CREATED:20250518T101751Z
LAST-MODIFIED:20250519T183955Z
UID:1449-1751097600-1751130000@kcb.atelierattention.com
SUMMARY:Passing the Torch: Ignite Your Success through Alumni Journeys
DESCRIPTION:Summary:\nJoin our interactive business class led by our UK-certified lecturer and experience real classroom dynamics at KCB. \nEvent Details:\nCurious about what it’s like to study Business at KCB? This trial class is designed to let you sit in a real lecture and participate in interactive activities with our faculty and future peers. \nClass Highlights:\n\n\nIntroduction to leadership in global business environments \n\n\nHands-on group activities: Case solving & strategic planning \n\n\nQ&A session with the instructor and admissions advisor \n\n\nPerfect for high school graduates and university transfer students looking to pursue careers in management\, entrepreneurship\, or marketing. \n🎓 Participants receive a Certificate of Participation
URL:https://kcb.atelierattention.com/event/trial-class-business-leadership-essentials-2/
LOCATION:KCB Vietnam\, P. Trịnh Văn Bô\, Xuân Phương\, Nam Từ Liêm\, Hanoi\, Hanoi\, 10000\, Vietnam
ATTACH;FMTTYPE=image/jpeg:https://kcb.atelierattention.com/wp-content/uploads/2025/05/Event2.jpg
END:VEVENT
BEGIN:VEVENT
DTSTART;TZID=Asia/Bangkok:20250619T080000
DTEND;TZID=Asia/Bangkok:20250619T170000
DTSTAMP:20260422T211743
CREATED:20250518T101641Z
LAST-MODIFIED:20250519T181324Z
UID:1461-1750320000-1750352400@kcb.atelierattention.com
SUMMARY:Leaders Talk: Guiding businesses through times of crisis
DESCRIPTION:Summary:\nExplore the life of a KCB student! Join our flagship open day to discover our British programs\, attend mini-lectures\, and meet the academic team. \nEvent Details:\nEver wondered what it’s like to study at an internationally affiliated business school? KCB Experience Day gives you an inside look at our academic culture\, international programs\, and vibrant student life. \nYou’ll get the chance to: \n\nAttend sample lectures in business\, computing\, and hospitality\nTake a guided campus tour\nMeet current students and alumni\nExplore global transfer opportunities to the UK\nLearn how to apply for scholarships and financial aid\n\n🎁 Free KCB goodie bag & light lunch included \n📝 Seats are limited – registration is required!
URL:https://kcb.atelierattention.com/event/kcb-experience-day-2025-2-2/
LOCATION:KCB Vietnam\, P. Trịnh Văn Bô\, Xuân Phương\, Nam Từ Liêm\, Hanoi\, Hanoi\, 10000\, Vietnam
ATTACH;FMTTYPE=image/jpeg:https://kcb.atelierattention.com/wp-content/uploads/2025/05/Event3.jpg
END:VEVENT
BEGIN:VEVENT
DTSTART;TZID=Asia/Bangkok:20250619T080000
DTEND;TZID=Asia/Bangkok:20250619T170000
DTSTAMP:20260422T211743
CREATED:20250518T101641Z
LAST-MODIFIED:20250519T181217Z
UID:1451-1750320000-1750352400@kcb.atelierattention.com
SUMMARY:Parents Talk #1: Empowering Students’ Global Competences
DESCRIPTION:Summary:\nExplore the life of a KCB student! Join our flagship open day to discover our British programs\, attend mini-lectures\, and meet the academic team. \nEvent Details:\nEver wondered what it’s like to study at an internationally affiliated business school? KCB Experience Day gives you an inside look at our academic culture\, international programs\, and vibrant student life. \nYou’ll get the chance to: \n\nAttend sample lectures in business\, computing\, and hospitality\nTake a guided campus tour\nMeet current students and alumni\nExplore global transfer opportunities to the UK\nLearn how to apply for scholarships and financial aid\n\n🎁 Free KCB goodie bag & light lunch included \n📝 Seats are limited – registration is required!
URL:https://kcb.atelierattention.com/event/kcb-experience-day-2025-2/
LOCATION:KCB Vietnam\, P. Trịnh Văn Bô\, Xuân Phương\, Nam Từ Liêm\, Hanoi\, Hanoi\, 10000\, Vietnam
ATTACH;FMTTYPE=image/jpeg:https://kcb.atelierattention.com/wp-content/uploads/2025/05/Event3.jpg
END:VEVENT
BEGIN:VEVENT
DTSTART;TZID=Asia/Bangkok:20250619T080000
DTEND;TZID=Asia/Bangkok:20250619T170000
DTSTAMP:20260422T211743
CREATED:20250518T101641Z
LAST-MODIFIED:20250519T174423Z
UID:1183-1750320000-1750352400@kcb.atelierattention.com
SUMMARY:KCB Experience Day 2025
DESCRIPTION:Summary:\nExplore the life of a KCB student! Join our flagship open day to discover our British programs\, attend mini-lectures\, and meet the academic team. \nEvent Details:\nEver wondered what it’s like to study at an internationally affiliated business school? KCB Experience Day gives you an inside look at our academic culture\, international programs\, and vibrant student life. \nYou’ll get the chance to: \n\nAttend sample lectures in business\, computing\, and hospitality\nTake a guided campus tour\nMeet current students and alumni\nExplore global transfer opportunities to the UK\nLearn how to apply for scholarships and financial aid\n\n🎁 Free KCB goodie bag & light lunch included \n📝 Seats are limited – registration is required!
URL:https://kcb.atelierattention.com/event/kcb-experience-day-2025/
LOCATION:KCB Vietnam\, P. Trịnh Văn Bô\, Xuân Phương\, Nam Từ Liêm\, Hanoi\, Hanoi\, 10000\, Vietnam
ATTACH;FMTTYPE=image/jpeg:https://kcb.atelierattention.com/wp-content/uploads/2025/05/Event3.jpg
END:VEVENT
END:VCALENDAR